BEGIN:VCALENDAR
VERSION:2.0
PRODID:-//Autoridad de Turismo de Panamá - ECPv6.8.0//NONSGML v1.0//EN
CALSCALE:GREGORIAN
METHOD:PUBLISH
X-WR-CALNAME:Autoridad de Turismo de Panamá
X-ORIGINAL-URL:https://www.atp.gob.pa
X-WR-CALDESC:Eventos para Autoridad de Turismo de Panamá
REFRESH-INTERVAL;VALUE=DURATION:PT1H
X-Robots-Tag:noindex
X-PUBLISHED-TTL:PT1H
BEGIN:VTIMEZONE
TZID:America/Panama
BEGIN:STANDARD
TZOFFSETFROM:-0500
TZOFFSETTO:-0500
TZNAME:EST
DTSTART:20250101T000000
END:STANDARD
END:VTIMEZONE
BEGIN:VEVENT
DTSTART;TZID=America/Panama:20251008T000000
DTEND;TZID=America/Panama:20251012T235959
DTSTAMP:20260419T142703
CREATED:20250128T031526Z
LAST-MODIFIED:20250128T191036Z
UID:19469-1759881600-1760313599@www.atp.gob.pa
SUMMARY:Festival Montañero del Tambor y La Carreta de Los Pozos
DESCRIPTION:Ley 360 del 02 de febrero del 2023
URL:https://www.atp.gob.pa/calendario/festival-montanero-del-tambor-y-la-carreta-de-los-pozos/
CATEGORIES:Calendario de Eventos
END:VEVENT
BEGIN:VEVENT
DTSTART;TZID=America/Panama:20251023T000000
DTEND;TZID=America/Panama:20251026T235959
DTSTAMP:20260419T142703
CREATED:20250128T031640Z
LAST-MODIFIED:20250128T191016Z
UID:19473-1761177600-1761523199@www.atp.gob.pa
SUMMARY:Festival del Cangrejo y el Marisco Montijano
DESCRIPTION:Ley 100 de 12 de noviembre de 2013
URL:https://www.atp.gob.pa/calendario/festival-del-cangrejo-y-el-marisco-montijano-2/
CATEGORIES:Calendario de Eventos
END:VEVENT
BEGIN:VEVENT
DTSTART;TZID=America/Panama:20251024T000000
DTEND;TZID=America/Panama:20251026T235959
DTSTAMP:20260419T142703
CREATED:20250128T030436Z
LAST-MODIFIED:20250128T030437Z
UID:19449-1761264000-1761523199@www.atp.gob.pa
SUMMARY:Festival del Sombrero Pintao
DESCRIPTION:Ley N° 330 20 de octubre de 2022
URL:https://www.atp.gob.pa/calendario/festival-del-sombrero-pintao-2/
CATEGORIES:Calendario de Eventos
END:VEVENT
END:VCALENDAR