BEGIN:VCALENDAR
VERSION:2.0
PRODID:-//Autoridad de Turismo de Panamá - ECPv6.8.0//NONSGML v1.0//EN
CALSCALE:GREGORIAN
METHOD:PUBLISH
X-WR-CALNAME:Autoridad de Turismo de Panamá
X-ORIGINAL-URL:https://www.atp.gob.pa
X-WR-CALDESC:Eventos para Autoridad de Turismo de Panamá
REFRESH-INTERVAL;VALUE=DURATION:PT1H
X-Robots-Tag:noindex
X-PUBLISHED-TTL:PT1H
BEGIN:VTIMEZONE
TZID:America/Panama
BEGIN:STANDARD
TZOFFSETFROM:-0500
TZOFFSETTO:-0500
TZNAME:EST
DTSTART:20250101T000000
END:STANDARD
END:VTIMEZONE
BEGIN:VEVENT
DTSTART;TZID=America/Panama:20250404T080000
DTEND;TZID=America/Panama:20250406T170000
DTSTAMP:20260419T152226
CREATED:20250128T030306Z
LAST-MODIFIED:20250128T191411Z
UID:19445-1743753600-1743958800@www.atp.gob.pa
SUMMARY:Festival de la Carreta Tradicional de Capellanía
DESCRIPTION:Ley 44 del 14 de agosto de 2018
URL:https://www.atp.gob.pa/calendario/festival-de-la-carreta-tradicional-de-capellania/
CATEGORIES:Calendario de Eventos
END:VEVENT
BEGIN:VEVENT
DTSTART;TZID=America/Panama:20250410T000000
DTEND;TZID=America/Panama:20250413T235959
DTSTAMP:20260419T152226
CREATED:20250128T030129Z
LAST-MODIFIED:20250128T191353Z
UID:19441-1744243200-1744588799@www.atp.gob.pa
SUMMARY:Festival Caña de la Azúcar\, el Guarapo y sus Derivados\, El Roble de Aguadulce
DESCRIPTION:Ley 99 de 12 de noviembre de 2013
URL:https://www.atp.gob.pa/calendario/festival-cana-de-la-azucar-el-guarapo-y-sus-derivados-el-roble-de-aguadulce/
CATEGORIES:Calendario de Eventos
END:VEVENT
END:VCALENDAR