BEGIN:VCALENDAR
VERSION:2.0
PRODID:-//Autoridad de Turismo de Panamá - ECPv6.8.0//NONSGML v1.0//EN
CALSCALE:GREGORIAN
METHOD:PUBLISH
X-WR-CALNAME:Autoridad de Turismo de Panamá
X-ORIGINAL-URL:https://www.atp.gob.pa
X-WR-CALDESC:Eventos para Autoridad de Turismo de Panamá
REFRESH-INTERVAL;VALUE=DURATION:PT1H
X-Robots-Tag:noindex
X-PUBLISHED-TTL:PT1H
BEGIN:VTIMEZONE
TZID:America/Panama
BEGIN:STANDARD
TZOFFSETFROM:-0500
TZOFFSETTO:-0500
TZNAME:EST
DTSTART:20240101T000000
END:STANDARD
END:VTIMEZONE
BEGIN:VEVENT
DTSTART;TZID=America/Panama:20240529T080000
DTEND;TZID=America/Panama:20240609T170000
DTSTAMP:20260419T165523
CREATED:20240122T162532Z
LAST-MODIFIED:20240122T162742Z
UID:14368-1716969600-1717952400@www.atp.gob.pa
SUMMARY:Fiesta del Corpus Christi en Parita
DESCRIPTION:La Fiesta del Corpus Christi en Parita\, Panamá\, es una celebración religiosa que se distingue por sus procesiones solemnes\, coloridas alfombras florales y ceremonias que conmemoran la presencia del cuerpo y la sangre de Cristo en la Eucaristía. La festividad atrae a participantes y visitantes\, fusionando elementos religiosos con eventos culturales y tradicionales\, creando así una experiencia única en esta comunidad.
URL:https://www.atp.gob.pa/calendario/fiesta-del-corpus-christi-en-parita/
CATEGORIES:Calendario de Eventos
END:VEVENT
BEGIN:VEVENT
DTSTART;TZID=America/Panama:20240602T080000
DTEND;TZID=America/Panama:20240602T170000
DTSTAMP:20260419T165523
CREATED:20240122T162951Z
LAST-MODIFIED:20240122T163007Z
UID:14372-1717315200-1717347600@www.atp.gob.pa
SUMMARY:Fiesta del Corpus Christi en Chepo
DESCRIPTION:La Fiesta del Corpus Christi en Chepo se celebra el domingo después del jueves de Corpus\, destacando con una misa seguida por la procesión del Santísimo. Durante la ceremonia\, la danza del gran diablo\, autorizada por el sacerdote\, realiza su entrada. Al final de la misa\, se presenta un drama protagonizado por los diablos\, encabezados por el gran diablo\, el diablo de las iglesias y otros con nombres ingeniosos\, quienes intentan apoderarse del alma custodiada por el ángel. La diablada incluye diversos tipos de diablos con trajes coloridos y máscaras distintivas.
URL:https://www.atp.gob.pa/calendario/fiesta-del-corpus-christi-en-chepo/
CATEGORIES:Calendario de Eventos
END:VEVENT
BEGIN:VEVENT
DTSTART;TZID=America/Panama:20240619T160000
DTEND;TZID=America/Panama:20240619T210000
DTSTAMP:20260419T165523
CREATED:20240617T165205Z
LAST-MODIFIED:20240618T134228Z
UID:16948-1718812800-1718830800@www.atp.gob.pa
SUMMARY:Feria Nacional de Artesanías
DESCRIPTION:¡VISITA NUESTRO STAND! \n\n\n\nExposición y Venta Directa: Conoce y adquiere productos artesanales directamente de los artesanos. Talleres y Demostraciones: Observa y participa en talleres donde se mostrarán técnicas tradicionales de confección. Muestra Cultural: Disfruta de presentaciones artísticas que reflejan la riqueza cultural y artística de nuestras comunidades. Gastronomía Local: Degusta una variedad de platillos típicos y bebidas tradicionales. Concurso de Artesanías: Participa en el concurso donde se premiará la creatividad y la excelencia en la artesanía. \n\n\n\n \n\n\n\n\nMAS INFORMACION\n\n\n\n\n\nEntérate de toda la información del turismo⬇️ \n\n\n\n		\n			\n			\n							\n				\n					\n					\n						\n					\n								\n							\n				\n					\n					\n						\n					\n								\n							\n				\n					\n					\n						\n						\n					\n								\n			\n			\n					\n\n	\n\n\n\n\n\n\n\n\n\n\nPARA MAYOR INFORMACION VISITA\n\n\n\n\n\nFERIA NACIONAL DE ARTESANIAS 2024\n\n\n\n\n\n\n\n\n\n\n\n\n\n\n\n\n\nCentro de Convenciones ATLAPA
URL:https://www.atp.gob.pa/calendario/feria-nacional-de-artesanias/
CATEGORIES:ATP,Calendario de Eventos
ATTACH;FMTTYPE=image/jpeg:https://www.atp.gob.pa/wp-content/uploads/2024/06/Arte-8-Feed.jpg
END:VEVENT
BEGIN:VEVENT
DTSTART;TZID=America/Panama:20240620T090000
DTEND;TZID=America/Panama:20240623T210000
DTSTAMP:20260419T165523
CREATED:20240617T211201Z
LAST-MODIFIED:20240618T132612Z
UID:17042-1718874000-1719176400@www.atp.gob.pa
SUMMARY:Feria de Artesanías
DESCRIPTION:¡VISITA NUESTRO STAND! \n\n\n\nExposición y Venta Directa: Conoce y adquiere productos artesanales directamente de los artesanos. Talleres y Demostraciones: Observa y participa en talleres donde se mostrarán técnicas tradicionales de confección. Muestra Cultural: Disfruta de presentaciones artísticas que reflejan la riqueza cultural y artística de nuestras comunidades. Gastronomía Local: Degusta una variedad de platillos típicos y bebidas tradicionales. Concurso de Artesanías: Participa en el concurso donde se premiará la creatividad y la excelencia en la artesanía. \n\n\n\n \n\n\n\n\nMAS INFORMACION\n\n\n\n\n\nEntérate de toda la información del turismo⬇️ \n\n\n\n		\n			\n			\n							\n				\n					\n					\n						\n					\n								\n							\n				\n					\n					\n						\n					\n								\n							\n				\n					\n					\n						\n						\n					\n								\n			\n			\n					\n\n	\n\n\n\n\n\n\n\n\n\n\nPARA MAYOR INFORMACION VISITA\n\n\n\n\n\nFERIA NACIONAL DE ARTESANIAS 2024\n\n\n\n\n\n\n\n\n\n\n\n\n\n\n\n\n\nCentro de Convenciones ATLAPA
URL:https://www.atp.gob.pa/calendario/feria-de-artesanias/
CATEGORIES:ATP,Calendario de Eventos
ATTACH;FMTTYPE=image/jpeg:https://www.atp.gob.pa/wp-content/uploads/2024/06/Arte-2-Feed-1.jpg
END:VEVENT
END:VCALENDAR