BEGIN:VCALENDAR
VERSION:2.0
PRODID:-//Autoridad de Turismo de Panamá - ECPv6.8.0//NONSGML v1.0//EN
CALSCALE:GREGORIAN
METHOD:PUBLISH
X-WR-CALNAME:Autoridad de Turismo de Panamá
X-ORIGINAL-URL:https://www.atp.gob.pa
X-WR-CALDESC:Eventos para Autoridad de Turismo de Panamá
REFRESH-INTERVAL;VALUE=DURATION:PT1H
X-Robots-Tag:noindex
X-PUBLISHED-TTL:PT1H
BEGIN:VTIMEZONE
TZID:America/Panama
BEGIN:STANDARD
TZOFFSETFROM:-0500
TZOFFSETTO:-0500
TZNAME:EST
DTSTART:20240101T000000
END:STANDARD
END:VTIMEZONE
BEGIN:VEVENT
DTSTART;TZID=America/Panama:20240328T080000
DTEND;TZID=America/Panama:20240407T170000
DTSTAMP:20260419T152228
CREATED:20240122T160430Z
LAST-MODIFIED:20240122T160445Z
UID:14331-1711612800-1712509200@www.atp.gob.pa
SUMMARY:Expo Orquídeas
DESCRIPTION:La Feria Expo Orquídeas en Panamá es un evento que resalta la belleza y diversidad de las orquídeas\, atrayendo a amantes de las flores y expertos en jardinería. Durante la feria\, se exhiben diversas especies de orquídeas\, y los participantes tienen la oportunidad de conocer más sobre el cultivo y cuidado de estas fascinantes plantas. Además de las exposiciones florales\, la Feria Expo Orquídeas puede incluir actividades educativas\, conferencias y oportunidades de compra de orquídeas y productos relacionados.
URL:https://www.atp.gob.pa/calendario/expo-orquideas-2/
CATEGORIES:Calendario de Eventos
END:VEVENT
BEGIN:VEVENT
DTSTART;TZID=America/Panama:20240410T080000
DTEND;TZID=America/Panama:20240421T170000
DTSTAMP:20260419T152228
CREATED:20240122T160913Z
LAST-MODIFIED:20240122T161048Z
UID:14336-1712736000-1713718800@www.atp.gob.pa
SUMMARY:Feria Nacional de Colón
DESCRIPTION:La Feria Nacional de Colón destaca como un evento cultural que promueve diversos sectores\, desde agropecuarios hasta folclóricos\, con murgas y fuegos artificiales. Se resaltan las tradiciones\, cultura\, gastronomía y exhibiciones agropecuarias\, creando un ambiente acogedor con juegos mecánicos\, artesanías locales\, muestra gastronómica afroantillana y presentaciones artísticas nacionales. Los doce días de feria ofrecen entretenimiento variado\, desde exhibiciones caninas hasta espectáculos folclóricos\, destacando el talento y la creatividad de los artesanos locales.
URL:https://www.atp.gob.pa/calendario/feria-nacional-de-colon-2/
CATEGORIES:Calendario de Eventos
END:VEVENT
BEGIN:VEVENT
DTSTART;TZID=America/Panama:20240413T080000
DTEND;TZID=America/Panama:20240413T170000
DTSTAMP:20260419T152228
CREATED:20240122T161257Z
LAST-MODIFIED:20240122T161258Z
UID:14342-1712995200-1713027600@www.atp.gob.pa
SUMMARY:Festival de la Pollera Congo
DESCRIPTION:Este festival destaca la riqueza cultural y folklórica del país\, especialmente en lo relacionado con la pollera Congo\, máscaras y bailes de diablos. La responsabilidad de la difusión de las artes y la cultura en Panamá recae en el Ministerio de Cultura
URL:https://www.atp.gob.pa/calendario/festival-de-la-pollera-congo-2/
CATEGORIES:Calendario de Eventos
END:VEVENT
BEGIN:VEVENT
DTSTART;TZID=America/Panama:20240418T080000
DTEND;TZID=America/Panama:20240421T170000
DTSTAMP:20260419T152228
CREATED:20240122T161404Z
LAST-MODIFIED:20240122T161603Z
UID:14346-1713427200-1713718800@www.atp.gob.pa
SUMMARY:Festival Nacional de la Caña de Azúcar\, el Guarapo y sus Derivados
DESCRIPTION:El Festival Nacional de la Caña de Azúcar en El Roble de Aguadulce\, celebrado desde 1957\, recrea las festividades tras cada zafra\, destacando con reinados\, corridas de toros\, concursos estudiantiles\, desfiles de carretas y degustación de productos como miel de caña y dulces. Este evento rinde homenaje a los trabajadores de los cañaverales\, preservando tradiciones como el trapiche y la elaboración de raspadura\, a pesar de los cambios en el proceso de la caña.
URL:https://www.atp.gob.pa/calendario/festival-nacional-de-la-cana-de-azucar-el-guarapo-y-sus-derivados/
CATEGORIES:Calendario de Eventos
END:VEVENT
BEGIN:VEVENT
DTSTART;TZID=America/Panama:20240525T080000
DTEND;TZID=America/Panama:20240609T170000
DTSTAMP:20260419T152228
CREATED:20240122T162233Z
LAST-MODIFIED:20240122T162418Z
UID:14362-1716624000-1717952400@www.atp.gob.pa
SUMMARY:Fiesta del Corpus Christi en La Villa
DESCRIPTION:La Fiesta del Corpus Christi en La Villa\, en Panamá\, es una celebración religiosa que destaca por la solemnidad de las procesiones y eventos que conmemoran la presencia del cuerpo y la sangre de Cristo en la Eucaristía. La festividad incluye coloridos desfiles\, alfombras florales en las calles\, ceremonias religiosas y actividades culturales que atraen a participantes y visitantes para rendir homenaje a esta tradición católica.
URL:https://www.atp.gob.pa/calendario/fiesta-del-corpus-christi-en-la-villa/
CATEGORIES:Calendario de Eventos
END:VEVENT
BEGIN:VEVENT
DTSTART;TZID=America/Panama:20240419T080000
DTEND;TZID=America/Panama:20240501T170000
DTSTAMP:20260419T152228
CREATED:20240122T161731Z
LAST-MODIFIED:20240122T161953Z
UID:14354-1713513600-1714582800@www.atp.gob.pa
SUMMARY:Feria Internacional de Azuero
DESCRIPTION:La Feria Internacional de Azuero en Panamá es un evento anual que destaca la cultura\, tradiciones y actividades económicas de la región de Azuero. Organizada desde hace varios años\, la feria presenta un programa diverso que incluye exposiciones agrícolas\, muestras artesanales\, eventos folklóricos\, desfiles\, actividades gastronómicas y presentaciones artísticas. El propósito de la feria es promover el intercambio cultural y económico\, resaltando la rica herencia de Azuero y ofreciendo entretenimiento para los visitantes locales e internacionales.
URL:https://www.atp.gob.pa/calendario/feria-internacional-de-azuero/
CATEGORIES:Calendario de Eventos
END:VEVENT
BEGIN:VEVENT
DTSTART;TZID=America/Panama:20240428T080000
DTEND;TZID=America/Panama:20240430T170000
DTSTAMP:20260419T152228
CREATED:20240122T162052Z
LAST-MODIFIED:20240122T162120Z
UID:14358-1714291200-1714496400@www.atp.gob.pa
SUMMARY:Feria de Camarón Arriba
DESCRIPTION:La Feria de Camarón Arriba se llevará a cabo en Santa Rosa según el calendario de ferias nacionales. El Ministerio de Desarrollo Agropecuario\, a través de sus extensionistas en La Concepción\, participará con una exposición agrícola destacando productos locales como granos básicos\, hortalizas\, y derivados del maíz y de la caña de azúcar.
URL:https://www.atp.gob.pa/calendario/feria-de-camaron-arriba/
CATEGORIES:Calendario de Eventos
END:VEVENT
END:VCALENDAR