BEGIN:VCALENDAR
VERSION:2.0
PRODID:-//Autoridad de Turismo de Panamá - ECPv6.8.0//NONSGML v1.0//EN
CALSCALE:GREGORIAN
METHOD:PUBLISH
X-WR-CALNAME:Autoridad de Turismo de Panamá
X-ORIGINAL-URL:https://www.atp.gob.pa
X-WR-CALDESC:Eventos para Autoridad de Turismo de Panamá
REFRESH-INTERVAL;VALUE=DURATION:PT1H
X-Robots-Tag:noindex
X-PUBLISHED-TTL:PT1H
BEGIN:VTIMEZONE
TZID:America/Panama
BEGIN:STANDARD
TZOFFSETFROM:-0500
TZOFFSETTO:-0500
TZNAME:EST
DTSTART:20240101T000000
END:STANDARD
END:VTIMEZONE
BEGIN:VEVENT
DTSTART;TZID=America/Panama:20240228T080000
DTEND;TZID=America/Panama:20240303T170000
DTSTAMP:20260419T115203
CREATED:20240116T162828Z
LAST-MODIFIED:20240116T162914Z
UID:14257-1709107200-1709485200@www.atp.gob.pa
SUMMARY:Feria del Valle de Tonosí
DESCRIPTION:Celebra la cultura y la agricultura en la región.  \n\n\n\nCon desfiles\, exposiciones agrícolas y actividades culturales\, la feria destaca la diversidad de productos locales\, promoviendo la identidad de Tonosí y fomentando la participación comunitaria en esta festividad colorida.
URL:https://www.atp.gob.pa/calendario/feria-del-valle-de-tonosi-2/
CATEGORIES:Calendario de Eventos
END:VEVENT
BEGIN:VEVENT
DTSTART;TZID=America/Panama:20240229T080000
DTEND;TZID=America/Panama:20240303T170000
DTSTAMP:20260419T115203
CREATED:20240116T163142Z
LAST-MODIFIED:20240116T163143Z
UID:14262-1709193600-1709485200@www.atp.gob.pa
SUMMARY:Feria de Santa Fe de Darién
DESCRIPTION:La Feria de Santa Fe de Darién se destaca por resaltar la riqueza cultural y las tradiciones únicas de la región de Darién.  \n\n\n\nEste evento especial ofrece una plataforma para exhibir la diversidad étnica\, la artesanía local\, la música autóctona y las prácticas culturales propias de la comunidad darienita.  \n\n\n\nLa feria es un espacio donde los habitantes locales pueden compartir y preservar sus expresiones culturales\, creando así una experiencia festiva única y auténtica.
URL:https://www.atp.gob.pa/calendario/feria-de-santa-fe-de-darien-2/
CATEGORIES:Calendario de Eventos
END:VEVENT
BEGIN:VEVENT
DTSTART;TZID=America/Panama:20240229T080000
DTEND;TZID=America/Panama:20240304T170000
DTSTAMP:20260419T115203
CREATED:20240122T144919Z
LAST-MODIFIED:20240201T154650Z
UID:14297-1709193600-1709571600@www.atp.gob.pa
SUMMARY:Feria del Copé
DESCRIPTION:La Feria de El Copé en Panamá destaca por sus eventos turísticos vibrantes que incluyen desfiles coloridos\, actividades culturales y tradicionales\, ofreciendo a los visitantes una experiencia única para explorar la rica herencia y tradiciones de la región.
URL:https://www.atp.gob.pa/calendario/feria-del-cope-2/
CATEGORIES:Calendario de Eventos
END:VEVENT
BEGIN:VEVENT
DTSTART;TZID=America/Panama:20240311T080000
DTEND;TZID=America/Panama:20240313T170000
DTSTAMP:20260419T115203
CREATED:20240122T151715Z
LAST-MODIFIED:20240122T152110Z
UID:14301-1710144000-1710349200@www.atp.gob.pa
SUMMARY:Feria del Sur de Soná
DESCRIPTION:Feria del Sur de Soná se distingue por festivales de música y danzas que resaltan la autenticidad cultural\, junto con exposiciones artesanales\, proporcionando una experiencia única de la diversidad local.
URL:https://www.atp.gob.pa/calendario/feria-del-sur-de-sona/
CATEGORIES:Calendario de Eventos
END:VEVENT
BEGIN:VEVENT
DTSTART;TZID=America/Panama:20240314T080000
DTEND;TZID=America/Panama:20240317T170000
DTSTAMP:20260419T115203
CREATED:20240122T152254Z
LAST-MODIFIED:20240122T153951Z
UID:14307-1710403200-1710694800@www.atp.gob.pa
SUMMARY:Festival Folklórico de La Mitra
DESCRIPTION:La festividad tiene como objetivo preservar y compartir las ricas tradiciones locales\, brindando a los visitantes una experiencia inmersiva que destaca la autenticidad de la cultura panameña.
URL:https://www.atp.gob.pa/calendario/festival-folklorico-de-la-mitra/
CATEGORIES:Calendario de Eventos
END:VEVENT
BEGIN:VEVENT
DTSTART;TZID=America/Panama:20240314T080000
DTEND;TZID=America/Panama:20240317T170000
DTSTAMP:20260419T115203
CREATED:20240122T154047Z
LAST-MODIFIED:20240122T154227Z
UID:14313-1710403200-1710694800@www.atp.gob.pa
SUMMARY:Festival de la Cumbia Chorrerana
DESCRIPTION:El Festival de la Cumbia Chorrerana en Panamá celebra la rica tradición musical y cultural de la región de La Chorrera\, destacando la cumbia chorrerana\, un género musical autóctono. Este evento anual reúne a artistas locales\, grupos de baile y entusiastas de la música para celebrar y preservar la identidad cultural a través de presentaciones en vivo\, bailes tradicionales y actividades festivas.
URL:https://www.atp.gob.pa/calendario/festival-de-la-cumbia-chorrerana-2/
CATEGORIES:Calendario de Eventos
END:VEVENT
BEGIN:VEVENT
DTSTART;TZID=America/Panama:20240314T080000
DTEND;TZID=America/Panama:20240324T170000
DTSTAMP:20260419T115203
CREATED:20240122T154430Z
LAST-MODIFIED:20240122T160131Z
UID:14322-1710403200-1711299600@www.atp.gob.pa
SUMMARY:Feria Internacional de San José de David
DESCRIPTION:La Feria Internacional de San José de David en Panamá es un evento que destaca por su enfoque internacional\, presentando exhibiciones comerciales\, actividades culturales y eventos festivos. Celebrada en honor a San José\, esta feria atrae a visitantes de diferentes partes del mundo\, ofreciendo una plataforma para la promoción de productos locales\, así como para la celebración de la cultura y tradiciones de la región de David.
URL:https://www.atp.gob.pa/calendario/feria-internacional-de-san-jose-de-david/
CATEGORIES:Calendario de Eventos
END:VEVENT
BEGIN:VEVENT
DTSTART;TZID=America/Panama:20240321T080000
DTEND;TZID=America/Panama:20240324T170000
DTSTAMP:20260419T115203
CREATED:20240116T163259Z
LAST-MODIFIED:20240201T154805Z
UID:14267-1711008000-1711299600@www.atp.gob.pa
SUMMARY:Festival Nacional de la Caña de Azúcar
DESCRIPTION:Evento anual que celebra la industria azucarera en Panamá. Con desfiles\, actividades culturales y exhibiciones\, el festival destaca la importancia económica y cultural de la caña de azúcar\, promoviendo el conocimiento sobre la producción y contribución de este cultivo a la identidad panameña.
URL:https://www.atp.gob.pa/calendario/festival-nacional-de-la-cana-de-azucar/
CATEGORIES:Calendario de Eventos
END:VEVENT
BEGIN:VEVENT
DTSTART;TZID=America/Panama:20240328T080000
DTEND;TZID=America/Panama:20240407T170000
DTSTAMP:20260419T115203
CREATED:20240122T160430Z
LAST-MODIFIED:20240122T160445Z
UID:14331-1711612800-1712509200@www.atp.gob.pa
SUMMARY:Expo Orquídeas
DESCRIPTION:La Feria Expo Orquídeas en Panamá es un evento que resalta la belleza y diversidad de las orquídeas\, atrayendo a amantes de las flores y expertos en jardinería. Durante la feria\, se exhiben diversas especies de orquídeas\, y los participantes tienen la oportunidad de conocer más sobre el cultivo y cuidado de estas fascinantes plantas. Además de las exposiciones florales\, la Feria Expo Orquídeas puede incluir actividades educativas\, conferencias y oportunidades de compra de orquídeas y productos relacionados.
URL:https://www.atp.gob.pa/calendario/expo-orquideas-2/
CATEGORIES:Calendario de Eventos
END:VEVENT
END:VCALENDAR