BEGIN:VCALENDAR
VERSION:2.0
PRODID:-//Autoridad de Turismo de Panamá - ECPv6.8.0//NONSGML v1.0//EN
CALSCALE:GREGORIAN
METHOD:PUBLISH
X-WR-CALNAME:Autoridad de Turismo de Panamá
X-ORIGINAL-URL:https://www.atp.gob.pa
X-WR-CALDESC:Eventos para Autoridad de Turismo de Panamá
REFRESH-INTERVAL;VALUE=DURATION:PT1H
X-Robots-Tag:noindex
X-PUBLISHED-TTL:PT1H
BEGIN:VTIMEZONE
TZID:America/Panama
BEGIN:STANDARD
TZOFFSETFROM:-0500
TZOFFSETTO:-0500
TZNAME:EST
DTSTART:20240101T000000
END:STANDARD
END:VTIMEZONE
BEGIN:VEVENT
DTSTART;TZID=America/Panama:20240124T080000
DTEND;TZID=America/Panama:20240204T170000
DTSTAMP:20260419T124437
CREATED:20240116T142421Z
LAST-MODIFIED:20240116T142604Z
UID:14159-1706083200-1707066000@www.atp.gob.pa
SUMMARY:Feria Internacional de La Chorrera
DESCRIPTION:La Feria Internacional de La Chorrera  destaca la diversidad cultural\, comercial y artística de esta ciudad panameña. Con exhibiciones\, presentaciones artísticas y actividades comerciales\, la feria brinda a residentes y visitantes la oportunidad de sumergirse en la vibrante escena local\, fomentando la interacción comunitaria y el intercambio cultural.
URL:https://www.atp.gob.pa/calendario/feria-internacional-de-la-chorrera/
CATEGORIES:Calendario de Eventos
END:VEVENT
BEGIN:VEVENT
DTSTART;TZID=America/Panama:20240128T080000
DTEND;TZID=America/Panama:20240204T170000
DTSTAMP:20260419T124437
CREATED:20240116T142656Z
LAST-MODIFIED:20240126T161548Z
UID:14165-1706428800-1707066000@www.atp.gob.pa
SUMMARY:Feria de La Candelaria
DESCRIPTION:La Feria de La Candelaria  conmemora la festividad de La virgen Candelaria en Panamá. Este evento religioso y cultural destaca con desfiles\, actividades folklóricas y manifestaciones artísticas\, brindando a la comunidad la oportunidad de expresar su devoción y preservar las tradiciones locales en honor a La Candelaria.
URL:https://www.atp.gob.pa/calendario/feria-de-la-candelaria/
CATEGORIES:Calendario de Eventos
END:VEVENT
BEGIN:VEVENT
DTSTART;TZID=America/Panama:20240131T080000
DTEND;TZID=America/Panama:20240204T170000
DTSTAMP:20260419T124437
CREATED:20240116T143016Z
LAST-MODIFIED:20240116T144457Z
UID:14171-1706688000-1707066000@www.atp.gob.pa
SUMMARY:Feria de la Naranja
DESCRIPTION:La Feria de la Naranja celebra la producción y la diversidad de productos derivados de la naranja en una comunidad específica. A través de exposiciones\, actividades gastronómicas y eventos culturales\, la feria destaca la importancia económica y cultural de este cítrico\, promoviendo la interacción comunitaria y el turismo local.
URL:https://www.atp.gob.pa/calendario/feria-de-la-naranja-2/
CATEGORIES:Calendario de Eventos
END:VEVENT
BEGIN:VEVENT
DTSTART;TZID=America/Panama:20240202T080000
DTEND;TZID=America/Panama:20240205T170000
DTSTAMP:20260419T124437
CREATED:20240116T150651Z
LAST-MODIFIED:20240116T150652Z
UID:14177-1706860800-1707152400@www.atp.gob.pa
SUMMARY:Feria de Santa Fe de Veraguas
DESCRIPTION:La Feria de Santa Fe de Veraguas fusiona lo religioso y lo cultural\, con desfiles\, actividades folklóricas y eventos tradicionales que honran la festividad de Santa Fe. Este encuentro anual refleja la identidad y el fervor de la comunidad local\, fortaleciendo los lazos comunitarios y proporcionando un espacio para la celebración colectiva.
URL:https://www.atp.gob.pa/calendario/feria-de-santa-fe-de-veraguas-2/
CATEGORIES:Calendario de Eventos
END:VEVENT
BEGIN:VEVENT
DTSTART;TZID=America/Panama:20240210T080000
DTEND;TZID=America/Panama:20240211T170000
DTSTAMP:20260419T124437
CREATED:20240116T151305Z
LAST-MODIFIED:20240116T151306Z
UID:14193-1707552000-1707670800@www.atp.gob.pa
SUMMARY:Gran Feria Afroantillana
DESCRIPTION:Celebración vibrante que resalta la rica herencia afroantillana en Panamá. Con desfiles\, música\, danzas y exposiciones culturales\, este evento anual ofrece un escaparate de la influencia africana en la identidad panameña.  \n\n\n\nLa Feria Afroantillana se distingue por su enfoque en la diversidad étnica y la promoción de las contribuciones de la comunidad afrodescendiente a la cultura panameña.
URL:https://www.atp.gob.pa/calendario/gran-feria-afroantillana/
CATEGORIES:Calendario de Eventos
END:VEVENT
BEGIN:VEVENT
DTSTART;TZID=America/Panama:20240210T090000
DTEND;TZID=America/Panama:20240213T090000
DTSTAMP:20260419T124437
CREATED:20240116T151939Z
LAST-MODIFIED:20240207T202234Z
UID:14203-1707555600-1707814800@www.atp.gob.pa
SUMMARY:Carnavales
DESCRIPTION:Conoce las Reinas Carnaval 2024\n\n\n\nConoce más acerca de nuestras Reinas de Carnaval¡Descubre la magia del Carnaval de la Ciudad de Panamá 2024! Con cuatro reinas representando los patrimonios de Panamá\, desde la riqueza étnica hasta la biodiversidad única. Disfruta de culecos\, desfiles de comparsas y carrozas\, y actuaciones artísticas en la Cinta Costera y el Casco Antiguo del 9 al 13 de febrero. ¡No te lo pierdas!   \n\n\n\nSigue todas las sorpresas del Carnaval a través de nuestro instagam¡Carnaval de Panamá 2024: ¡alegría\, cultura y diversión garantizadas del 9 al 13 de febrero! 🎉🎊 #CarnavalPanamá #PanamáVivePorMás \n\n\n\nInstagram\n\n\n\nLos Carnavales de Panamá de las festividades más icónicas \n\n\n\nLos Carnavales en Panamá es una de las festividades más icónicas que transforma las ciudades en un espectáculo de alegría y color. Con desfiles llenos de música\, danzas y elaboradas carrozas\, esta celebración marca la antesala a la Cuaresma con días de diversión y algarabía. Cada región tiene sus propias tradiciones carnavalescas\, como Las Tablas\, conocida por su concurso de reinas y desfiles\, o Penonomé\, donde las comparsas y la música típica destacan en esta expresión cultural única. \n\n\n\nEn la Capital\, este evento es conocido por atraer a multitudes con su despliegue de comparsas\, música y actividades festivas\, se ha convertido en una tradición anual muy esperada. \n\n\n\nLa ATP trabaja en estrecha colaboración con diversas entidades y patrocinadores para garantizar el éxito y la seguridad del evento.  \n\n\n\nLos Carnavales de la Ciudad de Panamá ofrecen una mezcla de tradiciones locales\, presentaciones artísticas y una diversidad de actividades que disfrutan locales y turistas por igual.  \n\n\n\nEstos festivales no solo celebran la cultura panameña\, sino que también impulsan el turismo y promueven la vitalidad y la alegría que caracterizan a Panamá durante esta época del año. Te recomiendo verificar fuentes locales actualizadas para obtener información detallada sobre la última edición de los Carnavales en la Ciudad de Panamá.
URL:https://www.atp.gob.pa/calendario/carnavales/
CATEGORIES:Calendario de Eventos
END:VEVENT
BEGIN:VEVENT
DTSTART;TZID=America/Panama:20240216T080000
DTEND;TZID=America/Panama:20240218T170000
DTSTAMP:20260419T124437
CREATED:20240116T152608Z
LAST-MODIFIED:20240116T152609Z
UID:14215-1708070400-1708275600@www.atp.gob.pa
SUMMARY:Feria del Búfalo
DESCRIPTION:La Feria del Búfalo en Coclesito rinde homenaje al General y su comunidad\, destacando la importancia de preservar la presencia del búfalo en las tradiciones locales. Este evento anual celebra la cultura ganadera bufalina con exhibiciones\, actividades culturales y gastronomía\, fortaleciendo el vínculo entre la comunidad y este emblemático animal.
URL:https://www.atp.gob.pa/calendario/feria-del-bufalo/
CATEGORIES:Calendario de Eventos
END:VEVENT
BEGIN:VEVENT
DTSTART;TZID=America/Panama:20240216T080000
DTEND;TZID=America/Panama:20240225T170000
DTSTAMP:20260419T124437
CREATED:20240116T161916Z
LAST-MODIFIED:20240116T161917Z
UID:14244-1708070400-1708880400@www.atp.gob.pa
SUMMARY:Feria de Veraguas
DESCRIPTION:Festividad que celebra la rica diversidad cultural y agrícola de la provincia de Veraguas\, Panamá. Con desfiles\, eventos folklóricos y exposiciones\, la feria destaca la identidad local\, promoviendo el intercambio cultural y resaltando las tradiciones y productos característicos de la región.
URL:https://www.atp.gob.pa/calendario/feria-de-veraguas-2/
CATEGORIES:Calendario de Eventos
END:VEVENT
BEGIN:VEVENT
DTSTART;TZID=America/Panama:20240223T080000
DTEND;TZID=America/Panama:20240225T170000
DTSTAMP:20260419T124437
CREATED:20240116T162431Z
LAST-MODIFIED:20240116T162452Z
UID:14248-1708675200-1708880400@www.atp.gob.pa
SUMMARY:Feria de los Cítricos y del Café de Chitra
DESCRIPTION:La Feria de los Cítricos y del Café de Chitra es un evento anual que resalta la producción local de cítricos y café en la región. Con exhibiciones agrícolas\, degustaciones y actividades culturales\, la feria celebra la calidad de los productos de Chitra\, promoviendo la identidad agrícola de la comunidad y fomentando el turismo local.
URL:https://www.atp.gob.pa/calendario/feria-de-los-citricos-y-del-cafe-de-chitra/
CATEGORIES:Calendario de Eventos
END:VEVENT
BEGIN:VEVENT
DTSTART;TZID=America/Panama:20240224T080000
DTEND;TZID=America/Panama:20240225T170000
DTSTAMP:20260419T124437
CREATED:20240116T162659Z
LAST-MODIFIED:20240116T162700Z
UID:14253-1708761600-1708880400@www.atp.gob.pa
SUMMARY:Festival del Toque\, Canto y Baile del Tambor
DESCRIPTION:El Festival del Toque\, Canto y Baile del Tambor destaca la tradición musical y cultural panameña. A través de presentaciones de toques de tambor\, expresiones vocales y bailes folklóricos\, el evento resalta la riqueza del patrimonio musical local\, promoviendo la preservación y apreciación de estas formas artísticas únicas.
URL:https://www.atp.gob.pa/calendario/festival-del-toque-canto-y-baile-del-tambor/
CATEGORIES:Calendario de Eventos
END:VEVENT
BEGIN:VEVENT
DTSTART;TZID=America/Panama:20240228T080000
DTEND;TZID=America/Panama:20240303T170000
DTSTAMP:20260419T124437
CREATED:20240116T162828Z
LAST-MODIFIED:20240116T162914Z
UID:14257-1709107200-1709485200@www.atp.gob.pa
SUMMARY:Feria del Valle de Tonosí
DESCRIPTION:Celebra la cultura y la agricultura en la región.  \n\n\n\nCon desfiles\, exposiciones agrícolas y actividades culturales\, la feria destaca la diversidad de productos locales\, promoviendo la identidad de Tonosí y fomentando la participación comunitaria en esta festividad colorida.
URL:https://www.atp.gob.pa/calendario/feria-del-valle-de-tonosi-2/
CATEGORIES:Calendario de Eventos
END:VEVENT
BEGIN:VEVENT
DTSTART;TZID=America/Panama:20240229T080000
DTEND;TZID=America/Panama:20240303T170000
DTSTAMP:20260419T124437
CREATED:20240116T163142Z
LAST-MODIFIED:20240116T163143Z
UID:14262-1709193600-1709485200@www.atp.gob.pa
SUMMARY:Feria de Santa Fe de Darién
DESCRIPTION:La Feria de Santa Fe de Darién se destaca por resaltar la riqueza cultural y las tradiciones únicas de la región de Darién.  \n\n\n\nEste evento especial ofrece una plataforma para exhibir la diversidad étnica\, la artesanía local\, la música autóctona y las prácticas culturales propias de la comunidad darienita.  \n\n\n\nLa feria es un espacio donde los habitantes locales pueden compartir y preservar sus expresiones culturales\, creando así una experiencia festiva única y auténtica.
URL:https://www.atp.gob.pa/calendario/feria-de-santa-fe-de-darien-2/
CATEGORIES:Calendario de Eventos
END:VEVENT
BEGIN:VEVENT
DTSTART;TZID=America/Panama:20240229T080000
DTEND;TZID=America/Panama:20240304T170000
DTSTAMP:20260419T124437
CREATED:20240122T144919Z
LAST-MODIFIED:20240201T154650Z
UID:14297-1709193600-1709571600@www.atp.gob.pa
SUMMARY:Feria del Copé
DESCRIPTION:La Feria de El Copé en Panamá destaca por sus eventos turísticos vibrantes que incluyen desfiles coloridos\, actividades culturales y tradicionales\, ofreciendo a los visitantes una experiencia única para explorar la rica herencia y tradiciones de la región.
URL:https://www.atp.gob.pa/calendario/feria-del-cope-2/
CATEGORIES:Calendario de Eventos
END:VEVENT
END:VCALENDAR