BEGIN:VCALENDAR
VERSION:2.0
PRODID:-//Autoridad de Turismo de Panamá - ECPv6.8.0//NONSGML v1.0//EN
CALSCALE:GREGORIAN
METHOD:PUBLISH
X-WR-CALNAME:Autoridad de Turismo de Panamá
X-ORIGINAL-URL:https://www.atp.gob.pa
X-WR-CALDESC:Eventos para Autoridad de Turismo de Panamá
REFRESH-INTERVAL;VALUE=DURATION:PT1H
X-Robots-Tag:noindex
X-PUBLISHED-TTL:PT1H
BEGIN:VTIMEZONE
TZID:America/Panama
BEGIN:STANDARD
TZOFFSETFROM:-0500
TZOFFSETTO:-0500
TZNAME:EST
DTSTART:20250101T000000
END:STANDARD
END:VTIMEZONE
BEGIN:VEVENT
DTSTART;TZID=America/Panama:20251127T000000
DTEND;TZID=America/Panama:20251130T235959
DTSTAMP:20260419T220042
CREATED:20250128T025754Z
LAST-MODIFIED:20250128T190149Z
UID:19433-1764201600-1764547199@www.atp.gob.pa
SUMMARY:Festival del Tambor y La Pollera de San José
DESCRIPTION:Ley 288 de 10 de noviembre de 2022
URL:https://www.atp.gob.pa/calendario/festival-del-tambor-y-la-pollera-de-san-jose/
CATEGORIES:Calendario de Eventos
END:VEVENT
END:VCALENDAR