BEGIN:VCALENDAR
VERSION:2.0
PRODID:-//Autoridad de Turismo de Panamá - ECPv6.8.0//NONSGML v1.0//EN
CALSCALE:GREGORIAN
METHOD:PUBLISH
X-ORIGINAL-URL:https://www.atp.gob.pa
X-WR-CALDESC:Eventos para Autoridad de Turismo de Panamá
REFRESH-INTERVAL;VALUE=DURATION:PT1H
X-Robots-Tag:noindex
X-PUBLISHED-TTL:PT1H
BEGIN:VTIMEZONE
TZID:America/Panama
BEGIN:STANDARD
TZOFFSETFROM:-0500
TZOFFSETTO:-0500
TZNAME:EST
DTSTART:20250101T000000
END:STANDARD
END:VTIMEZONE
BEGIN:VEVENT
DTSTART;TZID=America/Panama:20250921T000000
DTEND;TZID=America/Panama:20250928T235959
DTSTAMP:20260419T181606
CREATED:20250128T025956Z
LAST-MODIFIED:20250128T191125Z
UID:19437-1758412800-1759103999@www.atp.gob.pa
SUMMARY:Festival Nacional de La Mejorana
DESCRIPTION:Ley 91 de 1995\, establecía un aporte de B/. 1\,000.00. Esta Ley fue modificada por la Ley 17 de 2003 y la Ley 115 de 2003\, donde solo se le obliga al Instituto Nacional de Cultura el pago de B/. 50\,000.00
URL:https://www.atp.gob.pa/calendario/festival-nacional-de-la-mejorana-2/
CATEGORIES:Calendario de Eventos
END:VEVENT
END:VCALENDAR