BEGIN:VCALENDAR
VERSION:2.0
PRODID:-//Autoridad de Turismo de Panamá - ECPv6.8.0//NONSGML v1.0//EN
CALSCALE:GREGORIAN
METHOD:PUBLISH
X-ORIGINAL-URL:https://www.atp.gob.pa
X-WR-CALDESC:Eventos para Autoridad de Turismo de Panamá
REFRESH-INTERVAL;VALUE=DURATION:PT1H
X-Robots-Tag:noindex
X-PUBLISHED-TTL:PT1H
BEGIN:VTIMEZONE
TZID:America/Panama
BEGIN:STANDARD
TZOFFSETFROM:-0500
TZOFFSETTO:-0500
TZNAME:EST
DTSTART:20250101T000000
END:STANDARD
END:VTIMEZONE
BEGIN:VEVENT
DTSTART;TZID=America/Panama:20250618T000000
DTEND;TZID=America/Panama:20250628T235959
DTSTAMP:20260419T172409
CREATED:20250128T024641Z
LAST-MODIFIED:20250128T191256Z
UID:19415-1750204800-1751155199@www.atp.gob.pa
SUMMARY:Asociación Rescate de Danzas Miguel Leguizamo
DESCRIPTION:Ley 43 de 14 de agosto de 2018
URL:https://www.atp.gob.pa/calendario/asociacion-rescate-de-danzas-miguel-leguizamo/
CATEGORIES:Calendario de Eventos
END:VEVENT
END:VCALENDAR