BEGIN:VCALENDAR
VERSION:2.0
PRODID:-//Autoridad de Turismo de Panamá - ECPv6.8.0//NONSGML v1.0//EN
CALSCALE:GREGORIAN
METHOD:PUBLISH
X-ORIGINAL-URL:https://www.atp.gob.pa
X-WR-CALDESC:Eventos para Autoridad de Turismo de Panamá
REFRESH-INTERVAL;VALUE=DURATION:PT1H
X-Robots-Tag:noindex
X-PUBLISHED-TTL:PT1H
BEGIN:VTIMEZONE
TZID:America/Panama
BEGIN:STANDARD
TZOFFSETFROM:-0500
TZOFFSETTO:-0500
TZNAME:EST
DTSTART:20250101T000000
END:STANDARD
END:VTIMEZONE
BEGIN:VEVENT
DTSTART;TZID=America/Panama:20250103T000000
DTEND;TZID=America/Panama:20250108T235959
DTSTAMP:20260419T132106
CREATED:20250128T024313Z
LAST-MODIFIED:20250128T191519Z
UID:19411-1735862400-1736380799@www.atp.gob.pa
SUMMARY:Festival Nacional del Encuentro Folclórico del Canajagua
DESCRIPTION:Ley 98 de 12 de noviembre de 2013
URL:https://www.atp.gob.pa/calendario/festival-nacional-del-encuentro-folclorico-del-canajagua-2/
CATEGORIES:Calendario de Eventos
END:VEVENT
END:VCALENDAR