BEGIN:VCALENDAR
VERSION:2.0
PRODID:-//Autoridad de Turismo de Panamá - ECPv6.8.0//NONSGML v1.0//EN
CALSCALE:GREGORIAN
METHOD:PUBLISH
X-ORIGINAL-URL:https://www.atp.gob.pa
X-WR-CALDESC:Eventos para Autoridad de Turismo de Panamá
REFRESH-INTERVAL;VALUE=DURATION:PT1H
X-Robots-Tag:noindex
X-PUBLISHED-TTL:PT1H
BEGIN:VTIMEZONE
TZID:America/Panama
BEGIN:STANDARD
TZOFFSETFROM:-0500
TZOFFSETTO:-0500
TZNAME:EST
DTSTART:20240101T000000
END:STANDARD
END:VTIMEZONE
BEGIN:VEVENT
DTSTART;TZID=America/Panama:20240711T080000
DTEND;TZID=America/Panama:20240714T170000
DTSTAMP:20260419T183650
CREATED:20240122T163120Z
LAST-MODIFIED:20240122T163121Z
UID:14377-1720684800-1720976400@www.atp.gob.pa
SUMMARY:Feria del Ganado Lechero
DESCRIPTION:La Feria del Ganado Lechero es un evento que destaca la exhibición y promoción de ganado especializado en la producción de leche. Durante la feria\, los ganaderos presentan sus mejores ejemplares\, se realizan competiciones y se ofrecen actividades educativas sobre la cría y manejo del ganado lechero. Además\, la feria puede incluir exposiciones de productos lácteos\, charlas técnicas y oportunidades de negocios para la industria lechera. Este tipo de eventos contribuyen al desarrollo y promoción de la ganadería lechera en la región.
URL:https://www.atp.gob.pa/calendario/feria-del-ganado-lechero/
CATEGORIES:Calendario de Eventos
END:VEVENT
BEGIN:VEVENT
DTSTART;TZID=America/Panama:20240713T080000
DTEND;TZID=America/Panama:20240715T170000
DTSTAMP:20260419T183650
CREATED:20240122T164149Z
LAST-MODIFIED:20240122T164150Z
UID:14387-1720857600-1721062800@www.atp.gob.pa
SUMMARY:Feria de la Carne Bovina
DESCRIPTION:La Feria de la Carne Bovina es un evento que destaca la industria ganadera y la producción de carne. Durante la feria\, los ganaderos exhiben sus mejores ejemplares de ganado bovino\, se realizan competiciones y se ofrecen actividades educativas sobre la cría y manejo del ganado. Además\, la feria puede incluir degustaciones de carne\, demostraciones culinarias\, y oportunidades para promover la calidad y variedad de los productos cárnicos locales. Este tipo de eventos contribuyen a la promoción y desarrollo de la industria de la carne bovina en la región.
URL:https://www.atp.gob.pa/calendario/feria-de-la-carne-bovina/
CATEGORIES:Calendario de Eventos
END:VEVENT
END:VCALENDAR