BEGIN:VCALENDAR
VERSION:2.0
PRODID:-//Autoridad de Turismo de Panamá - ECPv6.8.0//NONSGML v1.0//EN
CALSCALE:GREGORIAN
METHOD:PUBLISH
X-WR-CALNAME:Autoridad de Turismo de Panamá
X-ORIGINAL-URL:https://www.atp.gob.pa
X-WR-CALDESC:Eventos para Autoridad de Turismo de Panamá
REFRESH-INTERVAL;VALUE=DURATION:PT1H
X-Robots-Tag:noindex
X-PUBLISHED-TTL:PT1H
BEGIN:VTIMEZONE
TZID:America/Panama
BEGIN:STANDARD
TZOFFSETFROM:-0500
TZOFFSETTO:-0500
TZNAME:EST
DTSTART:20240101T000000
END:STANDARD
END:VTIMEZONE
BEGIN:VEVENT
DTSTART;TZID=America/Panama:20240210T090000
DTEND;TZID=America/Panama:20240213T090000
DTSTAMP:20260419T142709
CREATED:20240116T151939Z
LAST-MODIFIED:20240207T202234Z
UID:14203-1707555600-1707814800@www.atp.gob.pa
SUMMARY:Carnavales
DESCRIPTION:Conoce las Reinas Carnaval 2024\n\n\n\nConoce más acerca de nuestras Reinas de Carnaval¡Descubre la magia del Carnaval de la Ciudad de Panamá 2024! Con cuatro reinas representando los patrimonios de Panamá\, desde la riqueza étnica hasta la biodiversidad única. Disfruta de culecos\, desfiles de comparsas y carrozas\, y actuaciones artísticas en la Cinta Costera y el Casco Antiguo del 9 al 13 de febrero. ¡No te lo pierdas!   \n\n\n\nSigue todas las sorpresas del Carnaval a través de nuestro instagam¡Carnaval de Panamá 2024: ¡alegría\, cultura y diversión garantizadas del 9 al 13 de febrero! 🎉🎊 #CarnavalPanamá #PanamáVivePorMás \n\n\n\nInstagram\n\n\n\nLos Carnavales de Panamá de las festividades más icónicas \n\n\n\nLos Carnavales en Panamá es una de las festividades más icónicas que transforma las ciudades en un espectáculo de alegría y color. Con desfiles llenos de música\, danzas y elaboradas carrozas\, esta celebración marca la antesala a la Cuaresma con días de diversión y algarabía. Cada región tiene sus propias tradiciones carnavalescas\, como Las Tablas\, conocida por su concurso de reinas y desfiles\, o Penonomé\, donde las comparsas y la música típica destacan en esta expresión cultural única. \n\n\n\nEn la Capital\, este evento es conocido por atraer a multitudes con su despliegue de comparsas\, música y actividades festivas\, se ha convertido en una tradición anual muy esperada. \n\n\n\nLa ATP trabaja en estrecha colaboración con diversas entidades y patrocinadores para garantizar el éxito y la seguridad del evento.  \n\n\n\nLos Carnavales de la Ciudad de Panamá ofrecen una mezcla de tradiciones locales\, presentaciones artísticas y una diversidad de actividades que disfrutan locales y turistas por igual.  \n\n\n\nEstos festivales no solo celebran la cultura panameña\, sino que también impulsan el turismo y promueven la vitalidad y la alegría que caracterizan a Panamá durante esta época del año. Te recomiendo verificar fuentes locales actualizadas para obtener información detallada sobre la última edición de los Carnavales en la Ciudad de Panamá.
URL:https://www.atp.gob.pa/calendario/carnavales/
CATEGORIES:Calendario de Eventos
END:VEVENT
END:VCALENDAR