BEGIN:VCALENDAR
VERSION:2.0
PRODID:-//Autoridad de Turismo de Panamá - ECPv6.8.0//NONSGML v1.0//EN
CALSCALE:GREGORIAN
METHOD:PUBLISH
X-ORIGINAL-URL:https://www.atp.gob.pa
X-WR-CALDESC:Eventos para Autoridad de Turismo de Panamá
REFRESH-INTERVAL;VALUE=DURATION:PT1H
X-Robots-Tag:noindex
X-PUBLISHED-TTL:PT1H
BEGIN:VTIMEZONE
TZID:America/Panama
BEGIN:STANDARD
TZOFFSETFROM:-0500
TZOFFSETTO:-0500
TZNAME:EST
DTSTART:20240101T000000
END:STANDARD
END:VTIMEZONE
BEGIN:VEVENT
DTSTART;TZID=America/Panama:20240124T080000
DTEND;TZID=America/Panama:20240204T170000
DTSTAMP:20260419T220022
CREATED:20240116T142421Z
LAST-MODIFIED:20240116T142604Z
UID:14159-1706083200-1707066000@www.atp.gob.pa
SUMMARY:Feria Internacional de La Chorrera
DESCRIPTION:La Feria Internacional de La Chorrera  destaca la diversidad cultural\, comercial y artística de esta ciudad panameña. Con exhibiciones\, presentaciones artísticas y actividades comerciales\, la feria brinda a residentes y visitantes la oportunidad de sumergirse en la vibrante escena local\, fomentando la interacción comunitaria y el intercambio cultural.
URL:https://www.atp.gob.pa/calendario/feria-internacional-de-la-chorrera/
CATEGORIES:Calendario de Eventos
END:VEVENT
END:VCALENDAR