BEGIN:VCALENDAR
VERSION:2.0
PRODID:-//Autoridad de Turismo de Panamá - ECPv6.8.0//NONSGML v1.0//EN
CALSCALE:GREGORIAN
METHOD:PUBLISH
X-ORIGINAL-URL:https://www.atp.gob.pa
X-WR-CALDESC:Eventos para Autoridad de Turismo de Panamá
REFRESH-INTERVAL;VALUE=DURATION:PT1H
X-Robots-Tag:noindex
X-PUBLISHED-TTL:PT1H
BEGIN:VTIMEZONE
TZID:America/Panama
BEGIN:STANDARD
TZOFFSETFROM:-0500
TZOFFSETTO:-0500
TZNAME:EST
DTSTART:20240101T000000
END:STANDARD
END:VTIMEZONE
BEGIN:VEVENT
DTSTART;TZID=America/Panama:20240111T080000
DTEND;TZID=America/Panama:20240121T170000
DTSTAMP:20260419T221328
CREATED:20240116T132802Z
LAST-MODIFIED:20240116T141942Z
UID:14113-1704960000-1705856400@www.atp.gob.pa
SUMMARY:Feria de las Flores y del Café de Boquete
DESCRIPTION:La Feria de las Flores y del Café de Boquete es un evento anual que celebra la destacada producción de flores y café en la región de Boquete\, Panamá. Esta festividad\, consolidada desde hace años\, destaca la belleza floral y la calidad de los cafés locales\, atrayendo a visitantes con actividades culturales\, desfiles y degustaciones que resaltan la rica tradición agrícola de la zona.
URL:https://www.atp.gob.pa/calendario/feria-de-las-flores-y-del-cafe-de-boquete/
CATEGORIES:Calendario de Eventos
ATTACH;FMTTYPE=image/jpeg:https://www.atp.gob.pa/wp-content/uploads/2024/01/large_S2F09821_86092bb1-3a92-44b5-85d4-efb6920ca1eb.jpg
END:VEVENT
BEGIN:VEVENT
DTSTART;TZID=America/Panama:20240116T080000
DTEND;TZID=America/Panama:20240116T170000
DTSTAMP:20260419T221328
CREATED:20240116T134744Z
LAST-MODIFIED:20240116T135352Z
UID:14121-1705392000-1705424400@www.atp.gob.pa
SUMMARY:Encuentro Agropecuario del Sector Este
DESCRIPTION:El Encuentro Agropecuario del Sector Este  reúne a la comunidad agropecuaria en la región este de Panamá. Diseñado para fomentar la colaboración y compartir conocimientos\, el encuentro destaca las prácticas agrícolas y ganaderas locales\, promoviendo el intercambio de experiencias y el desarrollo sostenible en el sector.
URL:https://www.atp.gob.pa/calendario/encuentro-agropecuario-del-sector-este/
CATEGORIES:Calendario de Eventos
END:VEVENT
BEGIN:VEVENT
DTSTART;TZID=America/Panama:20240116T080000
DTEND;TZID=America/Panama:20240116T170000
DTSTAMP:20260419T221328
CREATED:20240116T140901Z
LAST-MODIFIED:20240116T140904Z
UID:14144-1705392000-1705424400@www.atp.gob.pa
SUMMARY:Feria de San Sebastián de Ocú
DESCRIPTION:La Feria de San Sebastián de Ocú es una festividad anual que conmemora al patrón San Sebastián en la pintoresca localidad de Ocú\, Panamá. Este evento\, arraigado en la tradición religiosa y cultural\, presenta coloridos desfiles\, actividades folklóricas y expresiones artísticas que reflejan la identidad y el fervor de la comunidad ocuana\, convirtiéndose en un momento destacado para residentes y visitantes.
URL:https://www.atp.gob.pa/calendario/feria-de-san-sebastian-de-ocu-2/
CATEGORIES:Calendario de Eventos
END:VEVENT
BEGIN:VEVENT
DTSTART;TZID=America/Panama:20240116T130000
DTEND;TZID=America/Panama:20240116T210000
DTSTAMP:20260419T221328
CREATED:20240116T135835Z
LAST-MODIFIED:20240116T140518Z
UID:14129-1705410000-1705438800@www.atp.gob.pa
SUMMARY:Desfile de las Mil Polleras
DESCRIPTION:El Desfile de las Mil Polleras es un espectáculo colorido y tradicional que celebra la vestimenta típica panameña\, conocida como «pollera». Este desfile anual destaca la diversidad y la artesanía de este traje folklórico\, atrayendo a participantes y espectadores de todo el país. La celebración resalta la rica herencia cultural y el orgullo panameño a través de la exhibición de mil polleras\, creando un evento icónico en la escena cultural del país.
URL:https://www.atp.gob.pa/calendario/desfile-de-las-mil-polleras-2/
CATEGORIES:ATP,Calendario de Eventos
ATTACH;FMTTYPE=image/jpeg:https://www.atp.gob.pa/wp-content/uploads/2024/01/square-inscripcion-milpolleras.jpg
END:VEVENT
END:VCALENDAR