BEGIN:VCALENDAR
VERSION:2.0
PRODID:-//Autoridad de Turismo de Panamá - ECPv6.8.0//NONSGML v1.0//EN
CALSCALE:GREGORIAN
METHOD:PUBLISH
X-ORIGINAL-URL:https://www.atp.gob.pa
X-WR-CALDESC:Eventos para Autoridad de Turismo de Panamá
REFRESH-INTERVAL;VALUE=DURATION:PT1H
X-Robots-Tag:noindex
X-PUBLISHED-TTL:PT1H
BEGIN:VTIMEZONE
TZID:America/Panama
BEGIN:STANDARD
TZOFFSETFROM:-0500
TZOFFSETTO:-0500
TZNAME:EST
DTSTART:20230101T000000
END:STANDARD
END:VTIMEZONE
BEGIN:VEVENT
DTSTART;TZID=America/Panama:20230114T000000
DTEND;TZID=America/Panama:20230114T235959
DTSTAMP:20260420T173324
CREATED:20221130T160854Z
LAST-MODIFIED:20240115T152737Z
UID:10166-1673654400-1673740799@www.atp.gob.pa
SUMMARY:Desfile de Las Mil Polleras
DESCRIPTION:Lugar: Las Tablas\, provincia de Los Santos  \n\n\n\nEl Desfile de las Mil Polleras es una de las más esperadas actividades de la región de Azuero\, se realiza el segundo fin de semana de cada enero\,la actividad reune a delegación de familias\, empresas privadas y de gobierno. Se realiza en la ciudad de las Tablas.
URL:https://www.atp.gob.pa/calendario/desfile-de-las-mil-polleras/
CATEGORIES:Calendario de Eventos
END:VEVENT
END:VCALENDAR