BEGIN:VCALENDAR
VERSION:2.0
PRODID:-//Autoridad de Turismo de Panamá - ECPv6.8.0//NONSGML v1.0//EN
CALSCALE:GREGORIAN
METHOD:PUBLISH
X-ORIGINAL-URL:https://www.atp.gob.pa
X-WR-CALDESC:Eventos para Autoridad de Turismo de Panamá
REFRESH-INTERVAL;VALUE=DURATION:PT1H
X-Robots-Tag:noindex
X-PUBLISHED-TTL:PT1H
BEGIN:VTIMEZONE
TZID:America/Panama
BEGIN:STANDARD
TZOFFSETFROM:-0500
TZOFFSETTO:-0500
TZNAME:EST
DTSTART:20220101T000000
END:STANDARD
END:VTIMEZONE
BEGIN:VEVENT
DTSTART;TZID=America/Panama:20221124T000000
DTEND;TZID=America/Panama:20221127T235959
DTSTAMP:20260421T104007
CREATED:20221130T160040Z
LAST-MODIFIED:20240115T152431Z
UID:10158-1669248000-1669593599@www.atp.gob.pa
SUMMARY:Festival Nacional del Tambor y la Pollera de San José
DESCRIPTION:Lugar: Los Santos\, San José. \n\n\n\nDentro del festival se realizan varios certámenes especiales\, por ejemplo el Concurso de Violín Don Abraham Vergara\, Toque de Tambores Alejandro Cedeño\, Concurso de Acordeón Don Hernán Vergara y el de Tunas Doña Lastenia Vergara. El dia domingo a partir de las 3 de la tarde\, se realizará el desfile de polleras y se premiarán las polleras inscritas en competición. \n\n\n\n \n\n\n\nB/.2\,500.00
URL:https://www.atp.gob.pa/calendario/festival-nacional-del-tambor-y-la-pollera-de-san-jose/
CATEGORIES:Calendario de Eventos
END:VEVENT
END:VCALENDAR